BEGIN:VCALENDAR
VERSION:2.0
PRODID:-//OLD Atlanta Parent - ECPv6.15.11//NONSGML v1.0//EN
CALSCALE:GREGORIAN
METHOD:PUBLISH
X-ORIGINAL-URL:https://atlantaparent.guidoclients.com
X-WR-CALDESC:Events for OLD Atlanta Parent
REFRESH-INTERVAL;VALUE=DURATION:PT1H
X-Robots-Tag:noindex
X-PUBLISHED-TTL:PT1H
BEGIN:VTIMEZONE
TZID:America/New_York
BEGIN:DAYLIGHT
TZOFFSETFROM:-0500
TZOFFSETTO:-0400
TZNAME:EDT
DTSTART:20170312T070000
END:DAYLIGHT
BEGIN:STANDARD
TZOFFSETFROM:-0400
TZOFFSETTO:-0500
TZNAME:EST
DTSTART:20171105T060000
END:STANDARD
BEGIN:DAYLIGHT
TZOFFSETFROM:-0500
TZOFFSETTO:-0400
TZNAME:EDT
DTSTART:20180311T070000
END:DAYLIGHT
BEGIN:STANDARD
TZOFFSETFROM:-0400
TZOFFSETTO:-0500
TZNAME:EST
DTSTART:20181104T060000
END:STANDARD
BEGIN:DAYLIGHT
TZOFFSETFROM:-0500
TZOFFSETTO:-0400
TZNAME:EDT
DTSTART:20190310T070000
END:DAYLIGHT
BEGIN:STANDARD
TZOFFSETFROM:-0400
TZOFFSETTO:-0500
TZNAME:EST
DTSTART:20191103T060000
END:STANDARD
END:VTIMEZONE
BEGIN:VEVENT
DTSTART;VALUE=DATE:20180930
DTEND;VALUE=DATE:20181101
DTSTAMP:20260423T101519
CREATED:20180930T233917Z
LAST-MODIFIED:20180930T233917Z
UID:10003787-1538265600-1541030399@atlantaparent.guidoclients.com
SUMMARY:Nightmare’s Gate Haunted House
DESCRIPTION:Chilling actors and special effects inside a haunted hospital. Not recommended for small children and pregnant women. Through Oct. 31. See nightmaresgate.com for schedule. $25.
URL:https://atlantaparent.guidoclients.com/event/nightmares-gate-haunted-house/
LOCATION:Douglassville Haunted House\, 3931 Longview Dr.\, Douglasville\, GA\, United States
GEO:33.7436911;-84.7039607
X-APPLE-STRUCTURED-LOCATION;VALUE=URI;X-ADDRESS=Douglassville Haunted House 3931 Longview Dr. Douglasville GA United States;X-APPLE-RADIUS=500;X-TITLE=3931 Longview Dr.:geo:-84.7039607,33.7436911
END:VEVENT
END:VCALENDAR