BEGIN:VCALENDAR
VERSION:2.0
PRODID:-//OLD Atlanta Parent - ECPv6.15.11//NONSGML v1.0//EN
CALSCALE:GREGORIAN
METHOD:PUBLISH
X-ORIGINAL-URL:https://atlantaparent.guidoclients.com
X-WR-CALDESC:Events for OLD Atlanta Parent
REFRESH-INTERVAL;VALUE=DURATION:PT1H
X-Robots-Tag:noindex
X-PUBLISHED-TTL:PT1H
BEGIN:VTIMEZONE
TZID:America/New_York
BEGIN:DAYLIGHT
TZOFFSETFROM:-0500
TZOFFSETTO:-0400
TZNAME:EDT
DTSTART:20190310T070000
END:DAYLIGHT
BEGIN:STANDARD
TZOFFSETFROM:-0400
TZOFFSETTO:-0500
TZNAME:EST
DTSTART:20191103T060000
END:STANDARD
BEGIN:DAYLIGHT
TZOFFSETFROM:-0500
TZOFFSETTO:-0400
TZNAME:EDT
DTSTART:20200308T070000
END:DAYLIGHT
BEGIN:STANDARD
TZOFFSETFROM:-0400
TZOFFSETTO:-0500
TZNAME:EST
DTSTART:20201101T060000
END:STANDARD
BEGIN:DAYLIGHT
TZOFFSETFROM:-0500
TZOFFSETTO:-0400
TZNAME:EDT
DTSTART:20210314T070000
END:DAYLIGHT
BEGIN:STANDARD
TZOFFSETFROM:-0400
TZOFFSETTO:-0500
TZNAME:EST
DTSTART:20211107T060000
END:STANDARD
BEGIN:DAYLIGHT
TZOFFSETFROM:-0500
TZOFFSETTO:-0400
TZNAME:EDT
DTSTART:20220313T070000
END:DAYLIGHT
BEGIN:STANDARD
TZOFFSETFROM:-0400
TZOFFSETTO:-0500
TZNAME:EST
DTSTART:20221106T060000
END:STANDARD
BEGIN:DAYLIGHT
TZOFFSETFROM:-0500
TZOFFSETTO:-0400
TZNAME:EDT
DTSTART:20230312T070000
END:DAYLIGHT
BEGIN:STANDARD
TZOFFSETFROM:-0400
TZOFFSETTO:-0500
TZNAME:EST
DTSTART:20231105T060000
END:STANDARD
BEGIN:DAYLIGHT
TZOFFSETFROM:-0500
TZOFFSETTO:-0400
TZNAME:EDT
DTSTART:20240310T070000
END:DAYLIGHT
BEGIN:STANDARD
TZOFFSETFROM:-0400
TZOFFSETTO:-0500
TZNAME:EST
DTSTART:20241103T060000
END:STANDARD
BEGIN:DAYLIGHT
TZOFFSETFROM:-0500
TZOFFSETTO:-0400
TZNAME:EDT
DTSTART:20250309T070000
END:DAYLIGHT
BEGIN:STANDARD
TZOFFSETFROM:-0400
TZOFFSETTO:-0500
TZNAME:EST
DTSTART:20251102T060000
END:STANDARD
BEGIN:DAYLIGHT
TZOFFSETFROM:-0500
TZOFFSETTO:-0400
TZNAME:EDT
DTSTART:20260308T070000
END:DAYLIGHT
BEGIN:STANDARD
TZOFFSETFROM:-0400
TZOFFSETTO:-0500
TZNAME:EST
DTSTART:20261101T060000
END:STANDARD
END:VTIMEZONE
BEGIN:VEVENT
DTSTART;VALUE=DATE:20251002
DTEND;VALUE=DATE:20251026
DTSTAMP:20260425T222145
CREATED:20250908T141744Z
LAST-MODIFIED:20250908T162704Z
UID:10008643-1759363200-1761436799@atlantaparent.guidoclients.com
SUMMARY:Four Scythes Haunted Attraction
DESCRIPTION:Dive into an eerie adventure with an unsettling ambiance. Recommended for ages 13 and older. Oct. 2-25. See website for schedule. $20-$25.
URL:https://atlantaparent.guidoclients.com/event/four-scythes-haunted-attraction/
LOCATION:Cumming Fairgrounds\, 235 Castleberry Rd.\, Cumming\, GA
END:VEVENT
BEGIN:VEVENT
DTSTART;VALUE=DATE:20240802
DTEND;VALUE=DATE:20240805
DTSTAMP:20260425T222145
CREATED:20240412T134702Z
LAST-MODIFIED:20240723T200932Z
UID:10006321-1722556800-1722815999@atlantaparent.guidoclients.com
SUMMARY:Big Bounce & Slide Festival
DESCRIPTION:Bounce into a good time with bounce houses\, obstacle courses\, slides\, mechanical rides\, games\, a giant foam pit and more than 25 water slides. Aug. 2\, 11 a.m.-9 p.m.; Aug. 3\, 10 a.m.-9 p.m. and Aug. 4\, 11 a.m.-6 p.m. $10; unlimited rides\, $25-$35; Family 4-Pack\, $75-$100.
URL:https://atlantaparent.guidoclients.com/event/big-bounce-slide-festival/
LOCATION:Cumming Fairgrounds\, 235 Castleberry Rd.\, Cumming\, GA
ATTACH;FMTTYPE=image/jpeg:https://atlantaparent.guidoclients.com/wp-content/uploads/2022/04/LBP_8374-scaled-e1650036550420.jpg
END:VEVENT
BEGIN:VEVENT
DTSTART;VALUE=DATE:20211210
DTEND;VALUE=DATE:20211212
DTSTAMP:20260425T222145
CREATED:20191025T162051Z
LAST-MODIFIED:20211022T193732Z
UID:10004668-1639094400-1639267199@atlantaparent.guidoclients.com
SUMMARY:Christmas in Cumming Arts and Crafts Show
DESCRIPTION:Shop 100 booths to find the perfect present for your loved ones. Fri. 4-10 p.m. and Sat. 10 a.m.-5 p.m. $1; ages 12 and younger\, free.
URL:https://atlantaparent.guidoclients.com/event/christmas-in-cumming-arts-and-crafts-show/
LOCATION:Cumming Fairgrounds\, 235 Castleberry Rd.\, Cumming\, GA
END:VEVENT
BEGIN:VEVENT
DTSTART;TZID=America/New_York:20200704T100000
DTEND;TZID=America/New_York:20200704T100000
DTSTAMP:20260425T222145
CREATED:20200701T175321Z
LAST-MODIFIED:20200701T175321Z
UID:10005092-1593856800-1593856800@atlantaparent.guidoclients.com
SUMMARY:Cumming Fourth of July Parade
DESCRIPTION:The parade starts at 10 a.m.\, starting at Forsyth Central High School and ending at the Cumming Fairgrounds. Free admission.
URL:https://atlantaparent.guidoclients.com/event/cumming-fourth-of-july-parade/
LOCATION:Cumming Fairgrounds\, 235 Castleberry Rd.\, Cumming\, GA
END:VEVENT
END:VCALENDAR