BEGIN:VCALENDAR
VERSION:2.0
PRODID:-//OLD Atlanta Parent - ECPv6.15.11//NONSGML v1.0//EN
CALSCALE:GREGORIAN
METHOD:PUBLISH
X-ORIGINAL-URL:https://atlantaparent.guidoclients.com
X-WR-CALDESC:Events for OLD Atlanta Parent
REFRESH-INTERVAL;VALUE=DURATION:PT1H
X-Robots-Tag:noindex
X-PUBLISHED-TTL:PT1H
BEGIN:VTIMEZONE
TZID:America/New_York
BEGIN:DAYLIGHT
TZOFFSETFROM:-0500
TZOFFSETTO:-0400
TZNAME:EDT
DTSTART:20190310T070000
END:DAYLIGHT
BEGIN:STANDARD
TZOFFSETFROM:-0400
TZOFFSETTO:-0500
TZNAME:EST
DTSTART:20191103T060000
END:STANDARD
BEGIN:DAYLIGHT
TZOFFSETFROM:-0500
TZOFFSETTO:-0400
TZNAME:EDT
DTSTART:20200308T070000
END:DAYLIGHT
BEGIN:STANDARD
TZOFFSETFROM:-0400
TZOFFSETTO:-0500
TZNAME:EST
DTSTART:20201101T060000
END:STANDARD
BEGIN:DAYLIGHT
TZOFFSETFROM:-0500
TZOFFSETTO:-0400
TZNAME:EDT
DTSTART:20210314T070000
END:DAYLIGHT
BEGIN:STANDARD
TZOFFSETFROM:-0400
TZOFFSETTO:-0500
TZNAME:EST
DTSTART:20211107T060000
END:STANDARD
END:VTIMEZONE
BEGIN:VEVENT
DTSTART;TZID=America/New_York:20200307T110000
DTEND;TZID=America/New_York:20200307T120000
DTSTAMP:20260422T130745
CREATED:20200218T023659Z
LAST-MODIFIED:20200218T023659Z
UID:10004913-1583578800-1583582400@atlantaparent.guidoclients.com
SUMMARY:Hansel and Gretel
DESCRIPTION:Presented by Capitol City Opera Company’s Outreach for Children program\, this introduction to live opera features the classic story of a brother and sister against an evil witch.
URL:https://atlantaparent.guidoclients.com/event/hansel-and-gretel-2/
LOCATION:Conant Center for the Performing Arts\, 4484 Peachtree Rd. NE\, Atlanta
GEO:33.8736513;-84.3313489
X-APPLE-STRUCTURED-LOCATION;VALUE=URI;X-ADDRESS=Conant Center for the Performing Arts 4484 Peachtree Rd. NE Atlanta;X-APPLE-RADIUS=500;X-TITLE=4484 Peachtree Rd. NE:geo:-84.3313489,33.8736513
END:VEVENT
END:VCALENDAR