BEGIN:VCALENDAR
VERSION:2.0
PRODID:-//OLD Atlanta Parent - ECPv6.15.11//NONSGML v1.0//EN
CALSCALE:GREGORIAN
METHOD:PUBLISH
X-ORIGINAL-URL:https://atlantaparent.guidoclients.com
X-WR-CALDESC:Events for OLD Atlanta Parent
REFRESH-INTERVAL;VALUE=DURATION:PT1H
X-Robots-Tag:noindex
X-PUBLISHED-TTL:PT1H
BEGIN:VTIMEZONE
TZID:America/New_York
BEGIN:DAYLIGHT
TZOFFSETFROM:-0500
TZOFFSETTO:-0400
TZNAME:EDT
DTSTART:20170312T070000
END:DAYLIGHT
BEGIN:STANDARD
TZOFFSETFROM:-0400
TZOFFSETTO:-0500
TZNAME:EST
DTSTART:20171105T060000
END:STANDARD
BEGIN:DAYLIGHT
TZOFFSETFROM:-0500
TZOFFSETTO:-0400
TZNAME:EDT
DTSTART:20180311T070000
END:DAYLIGHT
BEGIN:STANDARD
TZOFFSETFROM:-0400
TZOFFSETTO:-0500
TZNAME:EST
DTSTART:20181104T060000
END:STANDARD
BEGIN:DAYLIGHT
TZOFFSETFROM:-0500
TZOFFSETTO:-0400
TZNAME:EDT
DTSTART:20190310T070000
END:DAYLIGHT
BEGIN:STANDARD
TZOFFSETFROM:-0400
TZOFFSETTO:-0500
TZNAME:EST
DTSTART:20191103T060000
END:STANDARD
BEGIN:DAYLIGHT
TZOFFSETFROM:-0500
TZOFFSETTO:-0400
TZNAME:EDT
DTSTART:20200308T070000
END:DAYLIGHT
BEGIN:STANDARD
TZOFFSETFROM:-0400
TZOFFSETTO:-0500
TZNAME:EST
DTSTART:20201101T060000
END:STANDARD
BEGIN:DAYLIGHT
TZOFFSETFROM:-0500
TZOFFSETTO:-0400
TZNAME:EDT
DTSTART:20210314T070000
END:DAYLIGHT
BEGIN:STANDARD
TZOFFSETFROM:-0400
TZOFFSETTO:-0500
TZNAME:EST
DTSTART:20211107T060000
END:STANDARD
BEGIN:DAYLIGHT
TZOFFSETFROM:-0500
TZOFFSETTO:-0400
TZNAME:EDT
DTSTART:20220313T070000
END:DAYLIGHT
BEGIN:STANDARD
TZOFFSETFROM:-0400
TZOFFSETTO:-0500
TZNAME:EST
DTSTART:20221106T060000
END:STANDARD
BEGIN:DAYLIGHT
TZOFFSETFROM:-0500
TZOFFSETTO:-0400
TZNAME:EDT
DTSTART:20230312T070000
END:DAYLIGHT
BEGIN:STANDARD
TZOFFSETFROM:-0400
TZOFFSETTO:-0500
TZNAME:EST
DTSTART:20231105T060000
END:STANDARD
BEGIN:DAYLIGHT
TZOFFSETFROM:-0500
TZOFFSETTO:-0400
TZNAME:EDT
DTSTART:20240310T070000
END:DAYLIGHT
BEGIN:STANDARD
TZOFFSETFROM:-0400
TZOFFSETTO:-0500
TZNAME:EST
DTSTART:20241103T060000
END:STANDARD
END:VTIMEZONE
BEGIN:VTIMEZONE
TZID:UTC
BEGIN:STANDARD
TZOFFSETFROM:+0000
TZOFFSETTO:+0000
TZNAME:UTC
DTSTART:20170101T000000
END:STANDARD
END:VTIMEZONE
BEGIN:VEVENT
DTSTART;VALUE=DATE:20230616
DTEND;VALUE=DATE:20230619
DTSTAMP:20260423T004434
CREATED:20250418T135426Z
LAST-MODIFIED:20250423T141951Z
UID:10007273-1686873600-1687132799@atlantaparent.guidoclients.com
SUMMARY:Unicorn World
DESCRIPTION:Celebrate all things magical with this unicorn experience featuring life-sized\, animatronic unicorns\, themed crafts\, face painting\, bounce houses and more. May 17\, 9 a.m.-5:30 p.m. and May 18\, 9 a.m.-4:30 p.m. $33; ages 1 and younger\, free; activities\, extra.
URL:https://atlantaparent.guidoclients.com/event/unicorn-world/
LOCATION:Cobb Galleria Centre\, Two Galleria Parkway\, Atlanta
ATTACH;FMTTYPE=image/jpeg:https://atlantaparent.guidoclients.com/wp-content/uploads/2023/05/Unicorn-World_Knoxville-58-scaled-e1684418047314.jpg
GEO:33.8832236;-84.4665277
X-APPLE-STRUCTURED-LOCATION;VALUE=URI;X-ADDRESS=Cobb Galleria Centre Two Galleria Parkway Atlanta;X-APPLE-RADIUS=500;X-TITLE=Two Galleria Parkway:geo:-84.4665277,33.8832236
END:VEVENT
BEGIN:VEVENT
DTSTART;VALUE=DATE:20230128
DTEND;VALUE=DATE:20230130
DTSTAMP:20260423T004434
CREATED:20230116T202255Z
LAST-MODIFIED:20230120T184916Z
UID:10006734-1674864000-1675036799@atlantaparent.guidoclients.com
SUMMARY:Dinosaur Adventure
DESCRIPTION:Learn about the prehistoric age and dinosaurs with a fossil dig\, dinosaur rides\, mining\, a playground\, activities for toddlers and more. Jan. 28\, 9 a.m.-8 p.m. and Jan. 29\, 9 a.m.-7 p.m. $25; ages 2-12\, $35; ages 1 and younger\, free; add-ons\, $29-$49.
URL:https://atlantaparent.guidoclients.com/event/dinosaur-adventure/
LOCATION:Cobb Galleria Centre\, Two Galleria Parkway\, Atlanta
ATTACH;FMTTYPE=image/jpeg:https://atlantaparent.guidoclients.com/wp-content/uploads/2023/01/LT6A7976-scaled-e1674240545129.jpg
GEO:33.8832236;-84.4665277
X-APPLE-STRUCTURED-LOCATION;VALUE=URI;X-ADDRESS=Cobb Galleria Centre Two Galleria Parkway Atlanta;X-APPLE-RADIUS=500;X-TITLE=Two Galleria Parkway:geo:-84.4665277,33.8832236
END:VEVENT
BEGIN:VEVENT
DTSTART;VALUE=DATE:20210807
DTEND;VALUE=DATE:20210809
DTSTAMP:20260423T004434
CREATED:20210802T124110Z
LAST-MODIFIED:20210802T124110Z
UID:10005921-1628294400-1628467199@atlantaparent.guidoclients.com
SUMMARY:Dino Stroll
DESCRIPTION:Walk through this interactive dinosaur exhibit with 75 life-size creatures from the Triassic\, Jurassic and Cretaceous periods. Aug. 7\, 10 a.m.-5 p.m. and Aug. 8\, 10 a.m.-4 p.m.
URL:https://atlantaparent.guidoclients.com/event/dino-stroll/
LOCATION:Cobb Galleria Centre\, Two Galleria Parkway\, Atlanta
GEO:33.8832236;-84.4665277
X-APPLE-STRUCTURED-LOCATION;VALUE=URI;X-ADDRESS=Cobb Galleria Centre Two Galleria Parkway Atlanta;X-APPLE-RADIUS=500;X-TITLE=Two Galleria Parkway:geo:-84.4665277,33.8832236
END:VEVENT
BEGIN:VEVENT
DTSTART;VALUE=DATE:20180608
DTEND;VALUE=DATE:20180610
DTSTAMP:20260423T004434
CREATED:20180528T231106Z
LAST-MODIFIED:20180528T231106Z
UID:10003634-1528416000-1528588799@atlantaparent.guidoclients.com
SUMMARY:National Garden Railway Convention
DESCRIPTION:Kids will love seeing garden-sized model trains and operating garden railroads. Fri. 1-6 p.m. Sat. 9 a.m.-3 p.m. $10.
URL:https://atlantaparent.guidoclients.com/event/national-garden-railway-convention/
LOCATION:Cobb Galleria Centre\, Two Galleria Parkway\, Atlanta
GEO:33.8832236;-84.4665277
X-APPLE-STRUCTURED-LOCATION;VALUE=URI;X-ADDRESS=Cobb Galleria Centre Two Galleria Parkway Atlanta;X-APPLE-RADIUS=500;X-TITLE=Two Galleria Parkway:geo:-84.4665277,33.8832236
END:VEVENT
BEGIN:VEVENT
DTSTART;VALUE=DATE:20180519
DTEND;VALUE=DATE:20180521
DTSTAMP:20260423T004435
CREATED:20180502T014336Z
LAST-MODIFIED:20180501T165541Z
UID:10001403-1526688000-1526860799@atlantaparent.guidoclients.com
SUMMARY:Gluten-Free and Allergen-Friendly Expo
DESCRIPTION:Sample gluten-free products\, attend seminars and cooking classes. May 19-20. Sat.-Sun. 10 a.m.-3 p.m. Adults\, $15 (one-day) $25 (both days); ages 3-12\, $5 (one-day) $7 (both days); plus processing fees. \n 
URL:https://atlantaparent.guidoclients.com/event/gluten-free-allergen-friendly-expo/
LOCATION:Cobb Galleria Centre\, Two Galleria Parkway\, Atlanta
GEO:33.8832236;-84.4665277
X-APPLE-STRUCTURED-LOCATION;VALUE=URI;X-ADDRESS=Cobb Galleria Centre Two Galleria Parkway Atlanta;X-APPLE-RADIUS=500;X-TITLE=Two Galleria Parkway:geo:-84.4665277,33.8832236
END:VEVENT
BEGIN:VEVENT
DTSTART;TZID=America/New_York:20180224T090000
DTEND;TZID=America/New_York:20180225T190000
DTSTAMP:20260423T004435
CREATED:20180223T155856Z
LAST-MODIFIED:20180223T155856Z
UID:10003445-1519462800-1519585200@atlantaparent.guidoclients.com
SUMMARY:Discover the Dinosaurs Time Trek 2018
DESCRIPTION:Photo Credit | VStar Entertainment \nDinosaur exhibit featuring realistic animatronic dinosaurs set in scenes that transport you back to the Jurassic…including one dinosaur that kids can move themselves. Hands-on attractions include the bone scanner\, design-a-dino and the fossil find. The Time Trek Stage will have interactive shows and family challenges. Feb. 24-25. Sat. and Sun. 9 a.m.-7 p.m.
URL:https://atlantaparent.guidoclients.com/event/discover-dinosaurs-time-trek-2018/
LOCATION:Cobb Galleria Centre\, Two Galleria Parkway\, Atlanta
ATTACH;FMTTYPE=image/jpeg:https://atlantaparent.guidoclients.com/wp-content/uploads/2018/02/VSTAR_Web-Show-Photo-Assets_1600x900_DTT_1_SM.jpg
GEO:33.8832236;-84.4665277
X-APPLE-STRUCTURED-LOCATION;VALUE=URI;X-ADDRESS=Cobb Galleria Centre Two Galleria Parkway Atlanta;X-APPLE-RADIUS=500;X-TITLE=Two Galleria Parkway:geo:-84.4665277,33.8832236
END:VEVENT
END:VCALENDAR