BEGIN:VCALENDAR
VERSION:2.0
PRODID:-//OLD Atlanta Parent - ECPv6.15.11//NONSGML v1.0//EN
CALSCALE:GREGORIAN
METHOD:PUBLISH
X-WR-CALNAME:OLD Atlanta Parent
X-ORIGINAL-URL:https://atlantaparent.guidoclients.com
X-WR-CALDESC:Events for OLD Atlanta Parent
REFRESH-INTERVAL;VALUE=DURATION:PT1H
X-Robots-Tag:noindex
X-PUBLISHED-TTL:PT1H
BEGIN:VTIMEZONE
TZID:America/New_York
BEGIN:DAYLIGHT
TZOFFSETFROM:-0500
TZOFFSETTO:-0400
TZNAME:EDT
DTSTART:20240310T070000
END:DAYLIGHT
BEGIN:STANDARD
TZOFFSETFROM:-0400
TZOFFSETTO:-0500
TZNAME:EST
DTSTART:20241103T060000
END:STANDARD
BEGIN:DAYLIGHT
TZOFFSETFROM:-0500
TZOFFSETTO:-0400
TZNAME:EDT
DTSTART:20250309T070000
END:DAYLIGHT
BEGIN:STANDARD
TZOFFSETFROM:-0400
TZOFFSETTO:-0500
TZNAME:EST
DTSTART:20251102T060000
END:STANDARD
BEGIN:DAYLIGHT
TZOFFSETFROM:-0500
TZOFFSETTO:-0400
TZNAME:EDT
DTSTART:20260308T070000
END:DAYLIGHT
BEGIN:STANDARD
TZOFFSETFROM:-0400
TZOFFSETTO:-0500
TZNAME:EST
DTSTART:20261101T060000
END:STANDARD
END:VTIMEZONE
BEGIN:VEVENT
DTSTART;TZID=America/New_York:20250426T090000
DTEND;TZID=America/New_York:20250426T120000
DTSTAMP:20260422T044509
CREATED:20250129T153150Z
LAST-MODIFIED:20250428T124218Z
UID:10006803-1745658000-1745668800@atlantaparent.guidoclients.com
SUMMARY:Kids Day
DESCRIPTION:Environmental groups\, recycling partners and corporate partners will host interactive and educational activities for kids to learn about recycling and reusing items and to celebrate Earth Day. Free admission.
URL:https://atlantaparent.guidoclients.com/event/kids-day/
LOCATION:CHaRM Decatur\, 1223 Columbia Dr.\, Decatur
ATTACH;FMTTYPE=image/jpeg:https://atlantaparent.guidoclients.com/wp-content/uploads/2025/01/1.jpeg
GEO:33.752534;-84.2668505
X-APPLE-STRUCTURED-LOCATION;VALUE=URI;X-ADDRESS=CHaRM Decatur 1223 Columbia Dr. Decatur;X-APPLE-RADIUS=500;X-TITLE=1223 Columbia Dr.:geo:-84.2668505,33.752534
END:VEVENT
END:VCALENDAR