BEGIN:VCALENDAR
VERSION:2.0
PRODID:-//OLD Atlanta Parent - ECPv6.15.11//NONSGML v1.0//EN
CALSCALE:GREGORIAN
METHOD:PUBLISH
X-ORIGINAL-URL:https://atlantaparent.guidoclients.com
X-WR-CALDESC:Events for OLD Atlanta Parent
REFRESH-INTERVAL;VALUE=DURATION:PT1H
X-Robots-Tag:noindex
X-PUBLISHED-TTL:PT1H
BEGIN:VTIMEZONE
TZID:America/New_York
BEGIN:DAYLIGHT
TZOFFSETFROM:-0500
TZOFFSETTO:-0400
TZNAME:EDT
DTSTART:20230312T070000
END:DAYLIGHT
BEGIN:STANDARD
TZOFFSETFROM:-0400
TZOFFSETTO:-0500
TZNAME:EST
DTSTART:20231105T060000
END:STANDARD
BEGIN:DAYLIGHT
TZOFFSETFROM:-0500
TZOFFSETTO:-0400
TZNAME:EDT
DTSTART:20240310T070000
END:DAYLIGHT
BEGIN:STANDARD
TZOFFSETFROM:-0400
TZOFFSETTO:-0500
TZNAME:EST
DTSTART:20241103T060000
END:STANDARD
BEGIN:DAYLIGHT
TZOFFSETFROM:-0500
TZOFFSETTO:-0400
TZNAME:EDT
DTSTART:20250309T070000
END:DAYLIGHT
BEGIN:STANDARD
TZOFFSETFROM:-0400
TZOFFSETTO:-0500
TZNAME:EST
DTSTART:20251102T060000
END:STANDARD
BEGIN:DAYLIGHT
TZOFFSETFROM:-0500
TZOFFSETTO:-0400
TZNAME:EDT
DTSTART:20260308T070000
END:DAYLIGHT
BEGIN:STANDARD
TZOFFSETFROM:-0400
TZOFFSETTO:-0500
TZNAME:EST
DTSTART:20261101T060000
END:STANDARD
END:VTIMEZONE
BEGIN:VEVENT
DTSTART;TZID=America/New_York:20251205T170000
DTEND;TZID=America/New_York:20251205T200000
DTSTAMP:20260424T024753
CREATED:20251101T131544Z
LAST-MODIFIED:20251103T175349Z
UID:10008857-1764954000-1764964800@atlantaparent.guidoclients.com
SUMMARY:Chamblee Holiday Hoopla Festival
DESCRIPTION:Celebrate the holiday season with photos with Santa\, doggy photos with The Grinch\, the story of Hanukkah\, crafts\, the lighting of the Christmas tree and more.
URL:https://atlantaparent.guidoclients.com/event/chamblee-holiday-hoopla-festival/
LOCATION:Chamblee City Hall\, 3518 Broad St.\, Chamblee\, GA\, United States
ATTACH;FMTTYPE=image/jpeg:https://atlantaparent.guidoclients.com/wp-content/uploads/2024/11/Holiday-scaled-e1731939272295.jpg
GEO:33.8950567;-84.2992585
X-APPLE-STRUCTURED-LOCATION;VALUE=URI;X-ADDRESS=Chamblee City Hall 3518 Broad St. Chamblee GA United States;X-APPLE-RADIUS=500;X-TITLE=3518 Broad St.:geo:-84.2992585,33.8950567
END:VEVENT
BEGIN:VEVENT
DTSTART;TZID=America/New_York:20250704T183000
DTEND;TZID=America/New_York:20250704T183000
DTSTAMP:20260424T024753
CREATED:20250510T170042Z
LAST-MODIFIED:20250515T201101Z
UID:10002793-1751653800-1751653800@atlantaparent.guidoclients.com
SUMMARY:Chamblee Fourth of July Celebration
DESCRIPTION:Celebrate with three different musical acts and an elaborate fireworks show. Fireworks start at 9:30 p.m. Free admission.
URL:https://atlantaparent.guidoclients.com/event/chamblee-fourth-july-celebration/
LOCATION:Chamblee City Hall\, 3518 Broad St.\, Chamblee\, GA\, United States
ATTACH;FMTTYPE=image/jpeg:https://atlantaparent.guidoclients.com/wp-content/uploads/2019/05/chamblee-fourth-of-july-b_-DSC_0082-web.jpg
GEO:33.8950567;-84.2992585
X-APPLE-STRUCTURED-LOCATION;VALUE=URI;X-ADDRESS=Chamblee City Hall 3518 Broad St. Chamblee GA United States;X-APPLE-RADIUS=500;X-TITLE=3518 Broad St.:geo:-84.2992585,33.8950567
END:VEVENT
BEGIN:VEVENT
DTSTART;TZID=America/New_York:20250613T183000
DTEND;TZID=America/New_York:20250613T183000
DTSTAMP:20260424T024753
CREATED:20250528T180142Z
LAST-MODIFIED:20250603T153842Z
UID:10009393-1749839400-1749839400@atlantaparent.guidoclients.com
SUMMARY:Chamblee Rocks Summer Concert Series: Juneteenth Celebration
DESCRIPTION:This event will honor the rich legacy\, resilience\, history and culture of African Americans with a concert.
URL:https://atlantaparent.guidoclients.com/event/chamblee-summer-concert-series/2025-06-13/
LOCATION:Chamblee City Hall\, 3518 Broad St.\, Chamblee\, GA\, United States
GEO:33.8950567;-84.2992585
X-APPLE-STRUCTURED-LOCATION;VALUE=URI;X-ADDRESS=Chamblee City Hall 3518 Broad St. Chamblee GA United States;X-APPLE-RADIUS=500;X-TITLE=3518 Broad St.:geo:-84.2992585,33.8950567
END:VEVENT
BEGIN:VEVENT
DTSTART;TZID=America/New_York:20240921T110000
DTEND;TZID=America/New_York:20240921T180000
DTSTAMP:20260424T024753
CREATED:20240823T123749Z
LAST-MODIFIED:20240823T123749Z
UID:10008546-1726916400-1726941600@atlantaparent.guidoclients.com
SUMMARY:Chamblee Chalk Walk & Artist Market
DESCRIPTION:Celebrate creativity and community with chalk artists\, a live painter\, a performance art stage and a Community Chalk Space. Free admission.
URL:https://atlantaparent.guidoclients.com/event/chamblee-chalk-walk-artist-market/
LOCATION:Chamblee City Hall\, 3518 Broad St.\, Chamblee\, GA\, United States
GEO:33.8950567;-84.2992585
X-APPLE-STRUCTURED-LOCATION;VALUE=URI;X-ADDRESS=Chamblee City Hall 3518 Broad St. Chamblee GA United States;X-APPLE-RADIUS=500;X-TITLE=3518 Broad St.:geo:-84.2992585,33.8950567
END:VEVENT
END:VCALENDAR