BEGIN:VCALENDAR
VERSION:2.0
PRODID:-//OLD Atlanta Parent - ECPv6.15.11//NONSGML v1.0//EN
CALSCALE:GREGORIAN
METHOD:PUBLISH
X-WR-CALNAME:OLD Atlanta Parent
X-ORIGINAL-URL:https://atlantaparent.guidoclients.com
X-WR-CALDESC:Events for OLD Atlanta Parent
REFRESH-INTERVAL;VALUE=DURATION:PT1H
X-Robots-Tag:noindex
X-PUBLISHED-TTL:PT1H
BEGIN:VTIMEZONE
TZID:America/New_York
BEGIN:DAYLIGHT
TZOFFSETFROM:-0500
TZOFFSETTO:-0400
TZNAME:EDT
DTSTART:20240310T070000
END:DAYLIGHT
BEGIN:STANDARD
TZOFFSETFROM:-0400
TZOFFSETTO:-0500
TZNAME:EST
DTSTART:20241103T060000
END:STANDARD
BEGIN:DAYLIGHT
TZOFFSETFROM:-0500
TZOFFSETTO:-0400
TZNAME:EDT
DTSTART:20250309T070000
END:DAYLIGHT
BEGIN:STANDARD
TZOFFSETFROM:-0400
TZOFFSETTO:-0500
TZNAME:EST
DTSTART:20251102T060000
END:STANDARD
BEGIN:DAYLIGHT
TZOFFSETFROM:-0500
TZOFFSETTO:-0400
TZNAME:EDT
DTSTART:20260308T070000
END:DAYLIGHT
BEGIN:STANDARD
TZOFFSETFROM:-0400
TZOFFSETTO:-0500
TZNAME:EST
DTSTART:20261101T060000
END:STANDARD
END:VTIMEZONE
BEGIN:VEVENT
DTSTART;TZID=America/New_York:20251111T140000
DTEND;TZID=America/New_York:20251111T150000
DTSTAMP:20260424T055052
CREATED:20251001T161751Z
LAST-MODIFIED:20251006T183432Z
UID:10006060-1762869600-1762873200@atlantaparent.guidoclients.com
SUMMARY:Veterans Day Ceremony
DESCRIPTION:Honor the brave men and women who have faithfully served their country. Free admission.
URL:https://atlantaparent.guidoclients.com/event/veterans-day-ceremony-3/
LOCATION:Cauble Park\, 4425 Beach Street\, Acworth
GEO:34.0614724;-84.6836676
X-APPLE-STRUCTURED-LOCATION;VALUE=URI;X-ADDRESS=Cauble Park 4425 Beach Street Acworth;X-APPLE-RADIUS=500;X-TITLE=4425 Beach Street:geo:-84.6836676,34.0614724
END:VEVENT
BEGIN:VEVENT
DTSTART;TZID=America/New_York:20250704T160000
DTEND;TZID=America/New_York:20250704T220000
DTSTAMP:20260424T055053
CREATED:20250510T164647Z
LAST-MODIFIED:20250515T193137Z
UID:10002742-1751644800-1751666400@atlantaparent.guidoclients.com
SUMMARY:July Fourth Concert and Fireworks
DESCRIPTION:Food vendors\, live music in the afternoon and fireworks at 9:30 p.m.
URL:https://atlantaparent.guidoclients.com/event/july-fourth-concert-fireworks/
LOCATION:Cauble Park\, 4425 Beach Street\, Acworth
ATTACH;FMTTYPE=image/jpeg:https://atlantaparent.guidoclients.com/wp-content/uploads/2024/05/fireworkscreditjasonumphrey4.jpg
GEO:34.0614724;-84.6836676
X-APPLE-STRUCTURED-LOCATION;VALUE=URI;X-ADDRESS=Cauble Park 4425 Beach Street Acworth;X-APPLE-RADIUS=500;X-TITLE=4425 Beach Street:geo:-84.6836676,34.0614724
END:VEVENT
BEGIN:VEVENT
DTSTART;TZID=America/New_York:20250524T100000
DTEND;TZID=America/New_York:20250524T110000
DTSTAMP:20260424T055053
CREATED:20250413T130303Z
LAST-MODIFIED:20250423T161020Z
UID:10005839-1748080800-1748084400@atlantaparent.guidoclients.com
SUMMARY:Memorial Day Ceremony
DESCRIPTION:Honor those who have given their lives in service to the country with veterans and current servicemen. Free admission.
URL:https://atlantaparent.guidoclients.com/event/memorial-day-ceremony/
LOCATION:Cauble Park\, 4425 Beach Street\, Acworth
GEO:34.0614724;-84.6836676
X-APPLE-STRUCTURED-LOCATION;VALUE=URI;X-ADDRESS=Cauble Park 4425 Beach Street Acworth;X-APPLE-RADIUS=500;X-TITLE=4425 Beach Street:geo:-84.6836676,34.0614724
END:VEVENT
END:VCALENDAR