BEGIN:VCALENDAR
VERSION:2.0
PRODID:-//OLD Atlanta Parent - ECPv6.15.11//NONSGML v1.0//EN
CALSCALE:GREGORIAN
METHOD:PUBLISH
X-ORIGINAL-URL:https://atlantaparent.guidoclients.com
X-WR-CALDESC:Events for OLD Atlanta Parent
REFRESH-INTERVAL;VALUE=DURATION:PT1H
X-Robots-Tag:noindex
X-PUBLISHED-TTL:PT1H
BEGIN:VTIMEZONE
TZID:America/New_York
BEGIN:DAYLIGHT
TZOFFSETFROM:-0500
TZOFFSETTO:-0400
TZNAME:EDT
DTSTART:20240310T070000
END:DAYLIGHT
BEGIN:STANDARD
TZOFFSETFROM:-0400
TZOFFSETTO:-0500
TZNAME:EST
DTSTART:20241103T060000
END:STANDARD
BEGIN:DAYLIGHT
TZOFFSETFROM:-0500
TZOFFSETTO:-0400
TZNAME:EDT
DTSTART:20250309T070000
END:DAYLIGHT
BEGIN:STANDARD
TZOFFSETFROM:-0400
TZOFFSETTO:-0500
TZNAME:EST
DTSTART:20251102T060000
END:STANDARD
BEGIN:DAYLIGHT
TZOFFSETFROM:-0500
TZOFFSETTO:-0400
TZNAME:EDT
DTSTART:20260308T070000
END:DAYLIGHT
BEGIN:STANDARD
TZOFFSETFROM:-0400
TZOFFSETTO:-0500
TZNAME:EST
DTSTART:20261101T060000
END:STANDARD
END:VTIMEZONE
BEGIN:VEVENT
DTSTART;TZID=America/New_York:20251218T173000
DTEND;TZID=America/New_York:20251218T200000
DTSTAMP:20260422T121148
CREATED:20251101T040850Z
LAST-MODIFIED:20251121T161557Z
UID:10010266-1766079000-1766088000@atlantaparent.guidoclients.com
SUMMARY:Mistletoe on Main
DESCRIPTION:Experience Christmas in Canton like you would have in the past with a complimentary wagon ride. Dec. 4\, 11 and 18\, 5:30-8 p.m. Free admission.
URL:https://atlantaparent.guidoclients.com/event/mistletoe-on-main/2025-12-18/
LOCATION:Cannon Park\, 130 E. Main St.\, Canton
END:VEVENT
END:VCALENDAR