BEGIN:VCALENDAR
VERSION:2.0
PRODID:-//OLD Atlanta Parent - ECPv6.15.11//NONSGML v1.0//EN
CALSCALE:GREGORIAN
METHOD:PUBLISH
X-ORIGINAL-URL:https://atlantaparent.guidoclients.com
X-WR-CALDESC:Events for OLD Atlanta Parent
REFRESH-INTERVAL;VALUE=DURATION:PT1H
X-Robots-Tag:noindex
X-PUBLISHED-TTL:PT1H
BEGIN:VTIMEZONE
TZID:America/New_York
BEGIN:DAYLIGHT
TZOFFSETFROM:-0500
TZOFFSETTO:-0400
TZNAME:EDT
DTSTART:20220313T070000
END:DAYLIGHT
BEGIN:STANDARD
TZOFFSETFROM:-0400
TZOFFSETTO:-0500
TZNAME:EST
DTSTART:20221106T060000
END:STANDARD
BEGIN:DAYLIGHT
TZOFFSETFROM:-0500
TZOFFSETTO:-0400
TZNAME:EDT
DTSTART:20230312T070000
END:DAYLIGHT
BEGIN:STANDARD
TZOFFSETFROM:-0400
TZOFFSETTO:-0500
TZNAME:EST
DTSTART:20231105T060000
END:STANDARD
BEGIN:DAYLIGHT
TZOFFSETFROM:-0500
TZOFFSETTO:-0400
TZNAME:EDT
DTSTART:20240310T070000
END:DAYLIGHT
BEGIN:STANDARD
TZOFFSETFROM:-0400
TZOFFSETTO:-0500
TZNAME:EST
DTSTART:20241103T060000
END:STANDARD
BEGIN:DAYLIGHT
TZOFFSETFROM:-0500
TZOFFSETTO:-0400
TZNAME:EDT
DTSTART:20250309T070000
END:DAYLIGHT
BEGIN:STANDARD
TZOFFSETFROM:-0400
TZOFFSETTO:-0500
TZNAME:EST
DTSTART:20251102T060000
END:STANDARD
BEGIN:DAYLIGHT
TZOFFSETFROM:-0500
TZOFFSETTO:-0400
TZNAME:EDT
DTSTART:20260308T070000
END:DAYLIGHT
BEGIN:STANDARD
TZOFFSETFROM:-0400
TZOFFSETTO:-0500
TZNAME:EST
DTSTART:20261101T060000
END:STANDARD
END:VTIMEZONE
BEGIN:VEVENT
DTSTART;VALUE=DATE:20250913
DTEND;VALUE=DATE:20251102
DTSTAMP:20260425T143327
CREATED:20250814T135711Z
LAST-MODIFIED:20250818T151253Z
UID:10005943-1757721600-1762041599@atlantaparent.guidoclients.com
SUMMARY:Pumpkins at Callaway
DESCRIPTION:Walk the gardens featuring pumpkin sculptures\, topiaries and mums\, and after dark\, watch the gardens come to life with illuminating experiences\, including an Enchanted Forest\, glow-in-the-dark mini golf and a Pumpkin Tree. Sept. 13-Nov. 1. See website for hours. $25-$30; ages 3-11\, $20-$25; ages 2 and younger\, free.
URL:https://atlantaparent.guidoclients.com/event/pumpkins-at-callaway/
LOCATION:Callaway Gardens\, Hwy. 27\, Pine Mountain
ATTACH;FMTTYPE=image/jpeg:https://atlantaparent.guidoclients.com/wp-content/uploads/2021/08/calloway-fb-1-b.jpg
GEO:32.8102791;-84.856305
X-APPLE-STRUCTURED-LOCATION;VALUE=URI;X-ADDRESS=Callaway Gardens Hwy. 27 Pine Mountain;X-APPLE-RADIUS=500;X-TITLE=Hwy. 27:geo:-84.856305,32.8102791
END:VEVENT
BEGIN:VEVENT
DTSTART;VALUE=DATE:20250829
DTEND;VALUE=DATE:20250901
DTSTAMP:20260425T143327
CREATED:20250210T191144Z
LAST-MODIFIED:20250718T153447Z
UID:10002898-1756425600-1756684799@atlantaparent.guidoclients.com
SUMMARY:Sky High Hot Air Balloon Festival
DESCRIPTION:During the day\, have your face painted\, visit the caricature artist and more\, and at night\, see the illuminated Hot Air Balloon Glow and fireworks over Robin Lake Beach. $30; ages 4-12\, $20; ages 3 and younger\, free; balloon rides\, extra.
URL:https://atlantaparent.guidoclients.com/event/sky-high-hot-air-balloon-festival/
LOCATION:Callaway Gardens\, Hwy. 27\, Pine Mountain
ATTACH;FMTTYPE=image/jpeg:https://atlantaparent.guidoclients.com/wp-content/uploads/2017/07/iStock-587220054.jpg
GEO:32.8102791;-84.856305
X-APPLE-STRUCTURED-LOCATION;VALUE=URI;X-ADDRESS=Callaway Gardens Hwy. 27 Pine Mountain;X-APPLE-RADIUS=500;X-TITLE=Hwy. 27:geo:-84.856305,32.8102791
END:VEVENT
BEGIN:VEVENT
DTSTART;VALUE=DATE:20250301
DTEND;VALUE=DATE:20250428
DTSTAMP:20260425T143327
CREATED:20250227T203219Z
LAST-MODIFIED:20250227T203219Z
UID:10009144-1740787200-1745798399@atlantaparent.guidoclients.com
SUMMARY:Celebrate SPRING! Festival
DESCRIPTION:This immersive festival showcases the beauty of the season with Flight of Colors\, a limited-time art installation; Tulip Days; azalea displays; live music and more. $24.99-$29.99; ages 3-11\, $19.99-$24.99.
URL:https://atlantaparent.guidoclients.com/event/celebrate-spring-festival/
LOCATION:Callaway Gardens\, Hwy. 27\, Pine Mountain
ATTACH;FMTTYPE=image/jpeg:https://atlantaparent.guidoclients.com/wp-content/uploads/2025/02/tulip-field-2-scaled.jpg
GEO:32.8102791;-84.856305
X-APPLE-STRUCTURED-LOCATION;VALUE=URI;X-ADDRESS=Callaway Gardens Hwy. 27 Pine Mountain;X-APPLE-RADIUS=500;X-TITLE=Hwy. 27:geo:-84.856305,32.8102791
END:VEVENT
BEGIN:VEVENT
DTSTART;VALUE=DATE:20230701
DTEND;VALUE=DATE:20230705
DTSTAMP:20260425T143327
CREATED:20250510T134332Z
LAST-MODIFIED:20250515T194353Z
UID:10001856-1688169600-1688515199@atlantaparent.guidoclients.com
SUMMARY:July 4th Star Spangled Beach Party
DESCRIPTION:This bash at Callaway Gardens includes beach activities\, mini golf\, water activities and the nightly Fireworks Extravaganza. Fireworks start at 9:15 p.m. $35.99; ages 3-11\, $26.99; ages 2 and younger\, free.
URL:https://atlantaparent.guidoclients.com/event/july-fourth-star-spangled-beach-party/
LOCATION:Callaway Gardens\, Hwy. 27\, Pine Mountain
GEO:32.8102791;-84.856305
X-APPLE-STRUCTURED-LOCATION;VALUE=URI;X-ADDRESS=Callaway Gardens Hwy. 27 Pine Mountain;X-APPLE-RADIUS=500;X-TITLE=Hwy. 27:geo:-84.856305,32.8102791
END:VEVENT
END:VCALENDAR