BEGIN:VCALENDAR
VERSION:2.0
PRODID:-//OLD Atlanta Parent - ECPv6.15.11//NONSGML v1.0//EN
CALSCALE:GREGORIAN
METHOD:PUBLISH
X-WR-CALNAME:OLD Atlanta Parent
X-ORIGINAL-URL:https://atlantaparent.guidoclients.com
X-WR-CALDESC:Events for OLD Atlanta Parent
REFRESH-INTERVAL;VALUE=DURATION:PT1H
X-Robots-Tag:noindex
X-PUBLISHED-TTL:PT1H
BEGIN:VTIMEZONE
TZID:America/New_York
BEGIN:DAYLIGHT
TZOFFSETFROM:-0500
TZOFFSETTO:-0400
TZNAME:EDT
DTSTART:20210314T070000
END:DAYLIGHT
BEGIN:STANDARD
TZOFFSETFROM:-0400
TZOFFSETTO:-0500
TZNAME:EST
DTSTART:20211107T060000
END:STANDARD
BEGIN:DAYLIGHT
TZOFFSETFROM:-0500
TZOFFSETTO:-0400
TZNAME:EDT
DTSTART:20220313T070000
END:DAYLIGHT
BEGIN:STANDARD
TZOFFSETFROM:-0400
TZOFFSETTO:-0500
TZNAME:EST
DTSTART:20221106T060000
END:STANDARD
BEGIN:DAYLIGHT
TZOFFSETFROM:-0500
TZOFFSETTO:-0400
TZNAME:EDT
DTSTART:20230312T070000
END:DAYLIGHT
BEGIN:STANDARD
TZOFFSETFROM:-0400
TZOFFSETTO:-0500
TZNAME:EST
DTSTART:20231105T060000
END:STANDARD
BEGIN:DAYLIGHT
TZOFFSETFROM:-0500
TZOFFSETTO:-0400
TZNAME:EDT
DTSTART:20240310T070000
END:DAYLIGHT
BEGIN:STANDARD
TZOFFSETFROM:-0400
TZOFFSETTO:-0500
TZNAME:EST
DTSTART:20241103T060000
END:STANDARD
BEGIN:DAYLIGHT
TZOFFSETFROM:-0500
TZOFFSETTO:-0400
TZNAME:EDT
DTSTART:20250309T070000
END:DAYLIGHT
BEGIN:STANDARD
TZOFFSETFROM:-0400
TZOFFSETTO:-0500
TZNAME:EST
DTSTART:20251102T060000
END:STANDARD
BEGIN:DAYLIGHT
TZOFFSETFROM:-0500
TZOFFSETTO:-0400
TZNAME:EDT
DTSTART:20260308T070000
END:DAYLIGHT
BEGIN:STANDARD
TZOFFSETFROM:-0400
TZOFFSETTO:-0500
TZNAME:EST
DTSTART:20261101T060000
END:STANDARD
END:VTIMEZONE
BEGIN:VTIMEZONE
TZID:UTC
BEGIN:STANDARD
TZOFFSETFROM:+0000
TZOFFSETTO:+0000
TZNAME:UTC
DTSTART:20240101T000000
END:STANDARD
END:VTIMEZONE
BEGIN:VEVENT
DTSTART;TZID=America/New_York:20251203T180000
DTEND;TZID=America/New_York:20251203T210000
DTSTAMP:20260425T180427
CREATED:20251101T135440Z
LAST-MODIFIED:20251103T174644Z
UID:10008866-1764784800-1764795600@atlantaparent.guidoclients.com
SUMMARY:Light Up Brookhaven
DESCRIPTION:View holiday lights as Brookhaven kicks off their holiday season. Free admission.
URL:https://atlantaparent.guidoclients.com/event/light-up-brookhaven/
LOCATION:Blackburn Park\, 3493 Ashford Dunwoody Rd.\, Brookhaven
GEO:33.89189;-84.3259804
X-APPLE-STRUCTURED-LOCATION;VALUE=URI;X-ADDRESS=Blackburn Park 3493 Ashford Dunwoody Rd. Brookhaven;X-APPLE-RADIUS=500;X-TITLE=3493 Ashford Dunwoody Rd.:geo:-84.3259804,33.89189
END:VEVENT
BEGIN:VEVENT
DTSTART;TZID=UTC:20250412T110000
DTEND;TZID=UTC:20250412T140000
DTSTAMP:20260425T180427
CREATED:20250327T190724Z
LAST-MODIFIED:20250410T133151Z
UID:10002413-1744455600-1744466400@atlantaparent.guidoclients.com
SUMMARY:Brookhaven Touch-A-Truck
DESCRIPTION:Get behind the wheel of police cars\, fire trucks and more\, and enjoy face painting\, bubbles and a bouncy house.
URL:https://atlantaparent.guidoclients.com/event/touch-a-truck/
LOCATION:Blackburn Park\, 3493 Ashford Dunwoody Rd.\, Brookhaven
GEO:33.89189;-84.3259804
X-APPLE-STRUCTURED-LOCATION;VALUE=URI;X-ADDRESS=Blackburn Park 3493 Ashford Dunwoody Rd. Brookhaven;X-APPLE-RADIUS=500;X-TITLE=3493 Ashford Dunwoody Rd.:geo:-84.3259804,33.89189
END:VEVENT
BEGIN:VEVENT
DTSTART;VALUE=DATE:20250329
DTEND;VALUE=DATE:20250331
DTSTAMP:20260425T180427
CREATED:20250124T223242Z
LAST-MODIFIED:20250331T123638Z
UID:10002269-1743206400-1743379199@atlantaparent.guidoclients.com
SUMMARY:Brookhaven Cherry Blossom Festival
DESCRIPTION:Enjoy two days of music\, shop more than 100 local and regional artists’ works\, play in the Kidz Zone\, see classic cars\, and more. March 29-30\, 10 a.m.-6 p.m. Free admission.
URL:https://atlantaparent.guidoclients.com/event/brookhaven-cherry-blossom-festival/
LOCATION:Blackburn Park\, 3493 Ashford Dunwoody Rd.\, Brookhaven
ATTACH;FMTTYPE=image/jpeg:https://atlantaparent.guidoclients.com/wp-content/uploads/2018/02/Kids-at-brookhaven-CBF-b.jpg
GEO:33.89189;-84.3259804
X-APPLE-STRUCTURED-LOCATION;VALUE=URI;X-ADDRESS=Blackburn Park 3493 Ashford Dunwoody Rd. Brookhaven;X-APPLE-RADIUS=500;X-TITLE=3493 Ashford Dunwoody Rd.:geo:-84.3259804,33.89189
END:VEVENT
BEGIN:VEVENT
DTSTART;TZID=America/New_York:20220921T173000
DTEND;TZID=America/New_York:20220921T173000
DTSTAMP:20260425T180427
CREATED:20220810T182331Z
LAST-MODIFIED:20220810T182331Z
UID:10006527-1663781400-1663781400@atlantaparent.guidoclients.com
SUMMARY:September Midweek Mile & Dash
DESCRIPTION:Designed for kids ages 14 and younger\, participate in the Track & Field Zone\, learn more about youth events and programming and run the mile or 50-meter dash. Free; registration required.
URL:https://atlantaparent.guidoclients.com/event/september-midweek-mile-dash/
LOCATION:Blackburn Park\, 3493 Ashford Dunwoody Rd.\, Brookhaven
ATTACH;FMTTYPE=image/jpeg:https://atlantaparent.guidoclients.com/wp-content/uploads/2022/08/3M8A0455-scaled-e1660155790813.jpg
GEO:33.89189;-84.3259804
X-APPLE-STRUCTURED-LOCATION;VALUE=URI;X-ADDRESS=Blackburn Park 3493 Ashford Dunwoody Rd. Brookhaven;X-APPLE-RADIUS=500;X-TITLE=3493 Ashford Dunwoody Rd.:geo:-84.3259804,33.89189
END:VEVENT
END:VCALENDAR