BEGIN:VCALENDAR
VERSION:2.0
PRODID:-//OLD Atlanta Parent - ECPv6.15.11//NONSGML v1.0//EN
CALSCALE:GREGORIAN
METHOD:PUBLISH
X-WR-CALNAME:OLD Atlanta Parent
X-ORIGINAL-URL:https://atlantaparent.guidoclients.com
X-WR-CALDESC:Events for OLD Atlanta Parent
REFRESH-INTERVAL;VALUE=DURATION:PT1H
X-Robots-Tag:noindex
X-PUBLISHED-TTL:PT1H
BEGIN:VTIMEZONE
TZID:America/New_York
BEGIN:DAYLIGHT
TZOFFSETFROM:-0500
TZOFFSETTO:-0400
TZNAME:EDT
DTSTART:20160313T070000
END:DAYLIGHT
BEGIN:STANDARD
TZOFFSETFROM:-0400
TZOFFSETTO:-0500
TZNAME:EST
DTSTART:20161106T060000
END:STANDARD
BEGIN:DAYLIGHT
TZOFFSETFROM:-0500
TZOFFSETTO:-0400
TZNAME:EDT
DTSTART:20170312T070000
END:DAYLIGHT
BEGIN:STANDARD
TZOFFSETFROM:-0400
TZOFFSETTO:-0500
TZNAME:EST
DTSTART:20171105T060000
END:STANDARD
BEGIN:DAYLIGHT
TZOFFSETFROM:-0500
TZOFFSETTO:-0400
TZNAME:EDT
DTSTART:20180311T070000
END:DAYLIGHT
BEGIN:STANDARD
TZOFFSETFROM:-0400
TZOFFSETTO:-0500
TZNAME:EST
DTSTART:20181104T060000
END:STANDARD
BEGIN:DAYLIGHT
TZOFFSETFROM:-0500
TZOFFSETTO:-0400
TZNAME:EDT
DTSTART:20190310T070000
END:DAYLIGHT
BEGIN:STANDARD
TZOFFSETFROM:-0400
TZOFFSETTO:-0500
TZNAME:EST
DTSTART:20191103T060000
END:STANDARD
BEGIN:DAYLIGHT
TZOFFSETFROM:-0500
TZOFFSETTO:-0400
TZNAME:EDT
DTSTART:20200308T070000
END:DAYLIGHT
BEGIN:STANDARD
TZOFFSETFROM:-0400
TZOFFSETTO:-0500
TZNAME:EST
DTSTART:20201101T060000
END:STANDARD
BEGIN:DAYLIGHT
TZOFFSETFROM:-0500
TZOFFSETTO:-0400
TZNAME:EDT
DTSTART:20210314T070000
END:DAYLIGHT
BEGIN:STANDARD
TZOFFSETFROM:-0400
TZOFFSETTO:-0500
TZNAME:EST
DTSTART:20211107T060000
END:STANDARD
BEGIN:DAYLIGHT
TZOFFSETFROM:-0500
TZOFFSETTO:-0400
TZNAME:EDT
DTSTART:20220313T070000
END:DAYLIGHT
BEGIN:STANDARD
TZOFFSETFROM:-0400
TZOFFSETTO:-0500
TZNAME:EST
DTSTART:20221106T060000
END:STANDARD
BEGIN:DAYLIGHT
TZOFFSETFROM:-0500
TZOFFSETTO:-0400
TZNAME:EDT
DTSTART:20230312T070000
END:DAYLIGHT
BEGIN:STANDARD
TZOFFSETFROM:-0400
TZOFFSETTO:-0500
TZNAME:EST
DTSTART:20231105T060000
END:STANDARD
BEGIN:DAYLIGHT
TZOFFSETFROM:-0500
TZOFFSETTO:-0400
TZNAME:EDT
DTSTART:20240310T070000
END:DAYLIGHT
BEGIN:STANDARD
TZOFFSETFROM:-0400
TZOFFSETTO:-0500
TZNAME:EST
DTSTART:20241103T060000
END:STANDARD
BEGIN:DAYLIGHT
TZOFFSETFROM:-0500
TZOFFSETTO:-0400
TZNAME:EDT
DTSTART:20250309T070000
END:DAYLIGHT
BEGIN:STANDARD
TZOFFSETFROM:-0400
TZOFFSETTO:-0500
TZNAME:EST
DTSTART:20251102T060000
END:STANDARD
BEGIN:DAYLIGHT
TZOFFSETFROM:-0500
TZOFFSETTO:-0400
TZNAME:EDT
DTSTART:20260308T070000
END:DAYLIGHT
BEGIN:STANDARD
TZOFFSETFROM:-0400
TZOFFSETTO:-0500
TZNAME:EST
DTSTART:20261101T060000
END:STANDARD
END:VTIMEZONE
BEGIN:VTIMEZONE
TZID:UTC
BEGIN:STANDARD
TZOFFSETFROM:+0000
TZOFFSETTO:+0000
TZNAME:UTC
DTSTART:20230101T000000
END:STANDARD
END:VTIMEZONE
BEGIN:VEVENT
DTSTART;TZID=America/New_York:20250927T150000
DTEND;TZID=America/New_York:20250927T200000
DTSTAMP:20260421T142557
CREATED:20250902T043054Z
LAST-MODIFIED:20250902T182551Z
UID:10008632-1758985200-1759003200@atlantaparent.guidoclients.com
SUMMARY:Harvest at the Station
DESCRIPTION:Amble along on a classic hayride\, paint some pumpkins\, taste caramel apples and more to celebrate the season. Free admission.
URL:https://atlantaparent.guidoclients.com/event/harvest-at-the-station-2/
LOCATION:Atlantic Station\, 17th Street\, Atlanta
GEO:33.7930678;-84.3839126
X-APPLE-STRUCTURED-LOCATION;VALUE=URI;X-ADDRESS=Atlantic Station 17th Street Atlanta;X-APPLE-RADIUS=500;X-TITLE=17th Street:geo:-84.3839126,33.7930678
END:VEVENT
BEGIN:VEVENT
DTSTART;VALUE=DATE:20250905
DTEND;VALUE=DATE:20250908
DTSTAMP:20260421T142557
CREATED:20250217T172132Z
LAST-MODIFIED:20250708T170155Z
UID:10009100-1757030400-1757289599@atlantaparent.guidoclients.com
SUMMARY:Panda Fest Atlanta
DESCRIPTION:      \n            \n\n  \n\n                \n     \nThis festival features experiential activities\, tasting and market fairs to showcase the vibrant food\, art and cultural traditions from across Asia. Sept. 5\, noon-5 p.m.; Sept. 6\, 10 a.m.-10 p.m. and Sept. 7\, 10 a.m.-8 p.m. Tickets on sale July 11: $10-$35.
URL:https://atlantaparent.guidoclients.com/event/panda-fest-atlanta/
LOCATION:Atlantic Station\, 17th Street\, Atlanta
ATTACH;FMTTYPE=image/jpeg:https://atlantaparent.guidoclients.com/wp-content/uploads/2025/02/panda-fest-bDSC08768-scaled-e1739812879785.jpg
GEO:33.7930678;-84.3839126
X-APPLE-STRUCTURED-LOCATION;VALUE=URI;X-ADDRESS=Atlantic Station 17th Street Atlanta;X-APPLE-RADIUS=500;X-TITLE=17th Street:geo:-84.3839126,33.7930678
END:VEVENT
BEGIN:VEVENT
DTSTART;TZID=America/New_York:20250719T120000
DTEND;TZID=America/New_York:20250719T190000
DTSTAMP:20260421T142557
CREATED:20250625T184824Z
LAST-MODIFIED:20250625T184824Z
UID:10009416-1752926400-1752951600@atlantaparent.guidoclients.com
SUMMARY:Atlanta Summer Halal Food Festival
DESCRIPTION:Explore new flavors\, enjoy live entertainment\, shop local vendors and more at this festival highlighting the richness of shared traditions. $25; ages 7 and younger\, free.
URL:https://atlantaparent.guidoclients.com/event/atlanta-summer-halal-food-festival/
LOCATION:Atlantic Station\, 17th Street\, Atlanta
GEO:33.7930678;-84.3839126
X-APPLE-STRUCTURED-LOCATION;VALUE=URI;X-ADDRESS=Atlantic Station 17th Street Atlanta;X-APPLE-RADIUS=500;X-TITLE=17th Street:geo:-84.3839126,33.7930678
END:VEVENT
BEGIN:VEVENT
DTSTART;TZID=America/New_York:20250215T100000
DTEND;TZID=America/New_York:20250215T190000
DTSTAMP:20260421T142557
CREATED:20250120T172129Z
LAST-MODIFIED:20250123T182817Z
UID:10003716-1739613600-1739646000@atlantaparent.guidoclients.com
SUMMARY:Hello Kitty Cafe Truck
DESCRIPTION:Visit the truck to pick up adorable and exclusive Hello Kitty treats and merchandise. Credit/debit card payments only.
URL:https://atlantaparent.guidoclients.com/event/hello-kitty-cafe-truck-at-atlantic-station/
LOCATION:Atlantic Station\, 17th Street\, Atlanta
GEO:33.7930678;-84.3839126
X-APPLE-STRUCTURED-LOCATION;VALUE=URI;X-ADDRESS=Atlantic Station 17th Street Atlanta;X-APPLE-RADIUS=500;X-TITLE=17th Street:geo:-84.3839126,33.7930678
END:VEVENT
BEGIN:VEVENT
DTSTART;VALUE=DATE:20241221
DTEND;VALUE=DATE:20241223
DTSTAMP:20260421T142557
CREATED:20241022T193554Z
LAST-MODIFIED:20241022T193554Z
UID:10008786-1734739200-1734911999@atlantaparent.guidoclients.com
SUMMARY:Holiday Creator’s Market
DESCRIPTION:Shop for the perfect gift from local entrepreneurs. Nov. 30 and Dec. 7\, 14 and 21\, 11 a.m.-9 p.m. and Dec. 1\, 8\, 15 and 22\, noon-7 p.m. Free admission. \n 
URL:https://atlantaparent.guidoclients.com/event/holiday-creators-market-2/2024-12-21/
LOCATION:Atlantic Station\, 17th Street\, Atlanta
GEO:33.7930678;-84.3839126
X-APPLE-STRUCTURED-LOCATION;VALUE=URI;X-ADDRESS=Atlantic Station 17th Street Atlanta;X-APPLE-RADIUS=500;X-TITLE=17th Street:geo:-84.3839126,33.7930678
END:VEVENT
BEGIN:VEVENT
DTSTART;VALUE=DATE:20241221
DTEND;VALUE=DATE:20241223
DTSTAMP:20260421T142557
CREATED:20241010T165304Z
LAST-MODIFIED:20241010T165304Z
UID:10008743-1734739200-1734911999@atlantaparent.guidoclients.com
SUMMARY:Holiday Creator’s Market
DESCRIPTION:Shop for the perfect gift from local entrepreneurs. Nov. 30 and Dec. 7\, 14 and 21\, 11 a.m.-9 p.m. and Dec. 1\, 8\, 15 and 22\, noon-7 p.m. Free admission.
URL:https://atlantaparent.guidoclients.com/event/holiday-creators-market/2024-12-21/
LOCATION:Atlantic Station\, 17th Street\, Atlanta
GEO:33.7930678;-84.3839126
X-APPLE-STRUCTURED-LOCATION;VALUE=URI;X-ADDRESS=Atlantic Station 17th Street Atlanta;X-APPLE-RADIUS=500;X-TITLE=17th Street:geo:-84.3839126,33.7930678
END:VEVENT
BEGIN:VEVENT
DTSTART;TZID=America/New_York:20241029T180000
DTEND;TZID=America/New_York:20241029T220000
DTSTAMP:20260421T142557
CREATED:20241011T164320Z
LAST-MODIFIED:20241011T164320Z
UID:10008756-1730224800-1730239200@atlantaparent.guidoclients.com
SUMMARY:Diwali Festival
DESCRIPTION:Light up your October with this cultural celebration featuring Bollywood movie “Dil to Pagal Hai\,” Indian dance performances\, craft stations and more. Free admission.
URL:https://atlantaparent.guidoclients.com/event/diwali-festival-2/
LOCATION:Atlantic Station\, 17th Street\, Atlanta
GEO:33.7930678;-84.3839126
X-APPLE-STRUCTURED-LOCATION;VALUE=URI;X-ADDRESS=Atlantic Station 17th Street Atlanta;X-APPLE-RADIUS=500;X-TITLE=17th Street:geo:-84.3839126,33.7930678
END:VEVENT
BEGIN:VEVENT
DTSTART;TZID=America/New_York:20240713T110000
DTEND;TZID=America/New_York:20240713T130000
DTSTAMP:20260421T142557
CREATED:20240619T165919Z
LAST-MODIFIED:20240619T165919Z
UID:10008473-1720868400-1720875600@atlantaparent.guidoclients.com
SUMMARY:Summer Popsicle Party
DESCRIPTION:Cool off for the summer with free Rosewater Lemonade popsicles and Mango Lassi creamsicles\, family-friendly entertainment\, board games and activities.
URL:https://atlantaparent.guidoclients.com/event/summer-popsicle-party/
LOCATION:Atlantic Station\, 17th Street\, Atlanta
GEO:33.7930678;-84.3839126
X-APPLE-STRUCTURED-LOCATION;VALUE=URI;X-ADDRESS=Atlantic Station 17th Street Atlanta;X-APPLE-RADIUS=500;X-TITLE=17th Street:geo:-84.3839126,33.7930678
END:VEVENT
BEGIN:VEVENT
DTSTART;VALUE=DATE:20240314
DTEND;VALUE=DATE:20240513
DTSTAMP:20260421T142557
CREATED:20240121T050059Z
LAST-MODIFIED:20240429T123757Z
UID:10000946-1710374400-1715558399@atlantaparent.guidoclients.com
SUMMARY:UniverSoul Circus
DESCRIPTION:This delightful circus features daredevil acts\, comedy with the hilarious ringmaster and clowns\, dazzling performers from around the world and more. May 17-June 2. See website for showtimes. $27.50+.
URL:https://atlantaparent.guidoclients.com/event/universoul-circus/
LOCATION:Atlantic Station\, 17th Street\, Atlanta
ATTACH;FMTTYPE=image/jpeg:https://atlantaparent.guidoclients.com/wp-content/uploads/2017/01/X-Treme-Motorcycles-3-Universoul-Circus.jpg
GEO:33.7930678;-84.3839126
X-APPLE-STRUCTURED-LOCATION;VALUE=URI;X-ADDRESS=Atlantic Station 17th Street Atlanta;X-APPLE-RADIUS=500;X-TITLE=17th Street:geo:-84.3839126,33.7930678
END:VEVENT
BEGIN:VEVENT
DTSTART;VALUE=DATE:20170914
DTEND;VALUE=DATE:20171120
DTSTAMP:20260421T142557
CREATED:20170822T164937Z
LAST-MODIFIED:20170927T192023Z
UID:10002960-1505347200-1511135999@atlantaparent.guidoclients.com
SUMMARY:Cirque du Soleil’s LUZIA: What a Dream of Mexico
DESCRIPTION:LUZIA is Cirque du Soleil’s interpretation of a “waking dream of Mexico\,” an adventure of modern and traditional music\, dance and acrobatics. My kids couldn’t take their eyes off the bright costumes and unbelievable acrobatics.     \n            \n\n  \n\n                \n     \nAs the story begins\, a displaced traveler\, the clown whose story ties all the scenes together\, skydives into magical Mexico. The first half is filled with acrobats dressed like birds leaping through the air\, complex dance routines and true feats of strength as a man balances himself high in the air. \nThe second act opens\, after a brief intermission\, with an amazing soccer player showing off footwork and impressive ball handling\, followed by a juggler\, aerial acrobatics\, a contortionist and a high-flying swing show. \nThe best thing about Luzia is that it appealed to both my children’s core interests: multiple dance and acrobatics numbers and the soccer segment that made my oldest daughter put down her popcorn. My 4-year-old most enjoyed the costumes\, especially the way they brought so many animals to life\, while my 7-year-old was captivated by the soccer player and the “boy who was so bendy.” \nMy husband and I enjoyed the whole show\, particularly the music and singing as well as the clown’s humor and audience engagement. Luzia is a fun and unique experience to share with your children \nKnow Before You Go: Because of Cirque’s rotating stage and circular seating\, there may not be a bad seat in the house. If you’re taking small children\, be aware that the music can be loud and there are bright lights and short periods of darkness. With intermission\, we were in the tent for about two hours and my 4-year-old became restless toward the end of the first half and again toward the end of the second half. \n–Lauren Townsend
URL:https://atlantaparent.guidoclients.com/event/cirque-du-soleils-luzia/
LOCATION:Atlantic Station\, 17th Street\, Atlanta
ATTACH;FMTTYPE=image/jpeg:https://atlantaparent.guidoclients.com/wp-content/uploads/2017/08/Cirq-4.jpg
GEO:33.7930678;-84.3839126
X-APPLE-STRUCTURED-LOCATION;VALUE=URI;X-ADDRESS=Atlantic Station 17th Street Atlanta;X-APPLE-RADIUS=500;X-TITLE=17th Street:geo:-84.3839126,33.7930678
END:VEVENT
END:VCALENDAR