BEGIN:VCALENDAR
VERSION:2.0
PRODID:-//OLD Atlanta Parent - ECPv6.15.11//NONSGML v1.0//EN
CALSCALE:GREGORIAN
METHOD:PUBLISH
X-ORIGINAL-URL:https://atlantaparent.guidoclients.com
X-WR-CALDESC:Events for OLD Atlanta Parent
REFRESH-INTERVAL;VALUE=DURATION:PT1H
X-Robots-Tag:noindex
X-PUBLISHED-TTL:PT1H
BEGIN:VTIMEZONE
TZID:America/New_York
BEGIN:DAYLIGHT
TZOFFSETFROM:-0500
TZOFFSETTO:-0400
TZNAME:EDT
DTSTART:20170312T070000
END:DAYLIGHT
BEGIN:STANDARD
TZOFFSETFROM:-0400
TZOFFSETTO:-0500
TZNAME:EST
DTSTART:20171105T060000
END:STANDARD
BEGIN:DAYLIGHT
TZOFFSETFROM:-0500
TZOFFSETTO:-0400
TZNAME:EDT
DTSTART:20180311T070000
END:DAYLIGHT
BEGIN:STANDARD
TZOFFSETFROM:-0400
TZOFFSETTO:-0500
TZNAME:EST
DTSTART:20181104T060000
END:STANDARD
BEGIN:DAYLIGHT
TZOFFSETFROM:-0500
TZOFFSETTO:-0400
TZNAME:EDT
DTSTART:20190310T070000
END:DAYLIGHT
BEGIN:STANDARD
TZOFFSETFROM:-0400
TZOFFSETTO:-0500
TZNAME:EST
DTSTART:20191103T060000
END:STANDARD
END:VTIMEZONE
BEGIN:VEVENT
DTSTART;TZID=America/New_York:20181013T190000
DTEND;TZID=America/New_York:20181013T190000
DTSTAMP:20260423T012305
CREATED:20180927T172235Z
LAST-MODIFIED:20181001T002351Z
UID:10003253-1539457200-1539457200@atlantaparent.guidoclients.com
SUMMARY:Spooky Film Festival Series
DESCRIPTION:A series of spooky films in Central Park including Hocus Pocus and Goosebumps. Free.
URL:https://atlantaparent.guidoclients.com/event/spooky-film-festival-series/2018-10-13/
LOCATION:Atlantic Station Event Space\, 241 20th St. NW\, Atlanta
GEO:33.7947541;-84.395317
X-APPLE-STRUCTURED-LOCATION;VALUE=URI;X-ADDRESS=Atlantic Station Event Space 241 20th St. NW Atlanta;X-APPLE-RADIUS=500;X-TITLE=241 20th St. NW:geo:-84.395317,33.7947541
END:VEVENT
END:VCALENDAR