BEGIN:VCALENDAR
VERSION:2.0
PRODID:-//OLD Atlanta Parent - ECPv6.15.11//NONSGML v1.0//EN
CALSCALE:GREGORIAN
METHOD:PUBLISH
X-WR-CALNAME:OLD Atlanta Parent
X-ORIGINAL-URL:https://atlantaparent.guidoclients.com
X-WR-CALDESC:Events for OLD Atlanta Parent
REFRESH-INTERVAL;VALUE=DURATION:PT1H
X-Robots-Tag:noindex
X-PUBLISHED-TTL:PT1H
BEGIN:VTIMEZONE
TZID:America/New_York
BEGIN:DAYLIGHT
TZOFFSETFROM:-0500
TZOFFSETTO:-0400
TZNAME:EDT
DTSTART:20180311T070000
END:DAYLIGHT
BEGIN:STANDARD
TZOFFSETFROM:-0400
TZOFFSETTO:-0500
TZNAME:EST
DTSTART:20181104T060000
END:STANDARD
BEGIN:DAYLIGHT
TZOFFSETFROM:-0500
TZOFFSETTO:-0400
TZNAME:EDT
DTSTART:20190310T070000
END:DAYLIGHT
BEGIN:STANDARD
TZOFFSETFROM:-0400
TZOFFSETTO:-0500
TZNAME:EST
DTSTART:20191103T060000
END:STANDARD
BEGIN:DAYLIGHT
TZOFFSETFROM:-0500
TZOFFSETTO:-0400
TZNAME:EDT
DTSTART:20200308T070000
END:DAYLIGHT
BEGIN:STANDARD
TZOFFSETFROM:-0400
TZOFFSETTO:-0500
TZNAME:EST
DTSTART:20201101T060000
END:STANDARD
BEGIN:DAYLIGHT
TZOFFSETFROM:-0500
TZOFFSETTO:-0400
TZNAME:EDT
DTSTART:20210314T070000
END:DAYLIGHT
BEGIN:STANDARD
TZOFFSETFROM:-0400
TZOFFSETTO:-0500
TZNAME:EST
DTSTART:20211107T060000
END:STANDARD
BEGIN:DAYLIGHT
TZOFFSETFROM:-0500
TZOFFSETTO:-0400
TZNAME:EDT
DTSTART:20220313T070000
END:DAYLIGHT
BEGIN:STANDARD
TZOFFSETFROM:-0400
TZOFFSETTO:-0500
TZNAME:EST
DTSTART:20221106T060000
END:STANDARD
BEGIN:DAYLIGHT
TZOFFSETFROM:-0500
TZOFFSETTO:-0400
TZNAME:EDT
DTSTART:20230312T070000
END:DAYLIGHT
BEGIN:STANDARD
TZOFFSETFROM:-0400
TZOFFSETTO:-0500
TZNAME:EST
DTSTART:20231105T060000
END:STANDARD
BEGIN:DAYLIGHT
TZOFFSETFROM:-0500
TZOFFSETTO:-0400
TZNAME:EDT
DTSTART:20240310T070000
END:DAYLIGHT
BEGIN:STANDARD
TZOFFSETFROM:-0400
TZOFFSETTO:-0500
TZNAME:EST
DTSTART:20241103T060000
END:STANDARD
BEGIN:DAYLIGHT
TZOFFSETFROM:-0500
TZOFFSETTO:-0400
TZNAME:EDT
DTSTART:20250309T070000
END:DAYLIGHT
BEGIN:STANDARD
TZOFFSETFROM:-0400
TZOFFSETTO:-0500
TZNAME:EST
DTSTART:20251102T060000
END:STANDARD
BEGIN:DAYLIGHT
TZOFFSETFROM:-0500
TZOFFSETTO:-0400
TZNAME:EDT
DTSTART:20260308T070000
END:DAYLIGHT
BEGIN:STANDARD
TZOFFSETFROM:-0400
TZOFFSETTO:-0500
TZNAME:EST
DTSTART:20261101T060000
END:STANDARD
END:VTIMEZONE
BEGIN:VEVENT
DTSTART;VALUE=DATE:20250815
DTEND;VALUE=DATE:20250817
DTSTAMP:20260423T023516
CREATED:20250715T200428Z
LAST-MODIFIED:20250818T125914Z
UID:10002037-1755216000-1755388799@atlantaparent.guidoclients.com
SUMMARY:Pigs and Peaches BBQ Festival
DESCRIPTION:This festival features two days of non-stop music\, good eats\, cold beer and interactive family fun with a Kid Zone full of inflatables. Aug. 15\, 6-10 p.m. and Aug. 16\, 10 a.m.-10 p.m. Free admission.
URL:https://atlantaparent.guidoclients.com/event/pigs-peaches-bbq-festival/
LOCATION:Adams Park\, 2753 Watts Drive\, Kennesaw
ATTACH;FMTTYPE=image/jpeg:https://atlantaparent.guidoclients.com/wp-content/uploads/2017/07/201608-pigsandpeaches-62_orig.jpg
GEO:34.0216518;-84.6211205
X-APPLE-STRUCTURED-LOCATION;VALUE=URI;X-ADDRESS=Adams Park 2753 Watts Drive Kennesaw;X-APPLE-RADIUS=500;X-TITLE=2753 Watts Drive:geo:-84.6211205,34.0216518
END:VEVENT
BEGIN:VEVENT
DTSTART;TZID=America/New_York:20250301T100000
DTEND;TZID=America/New_York:20250301T140000
DTSTAMP:20260423T023516
CREATED:20250208T022558Z
LAST-MODIFIED:20250303T133303Z
UID:10004951-1740823200-1740837600@atlantaparent.guidoclients.com
SUMMARY:Touch-A-Truck
DESCRIPTION:Get close to big trucks\, heavy construction and public safety equipment\, cool cars and specialty vehicles with this display. Free admission.
URL:https://atlantaparent.guidoclients.com/event/touch-a-truck-8/
LOCATION:Adams Park\, 2753 Watts Drive\, Kennesaw
ATTACH;FMTTYPE=image/jpeg:https://atlantaparent.guidoclients.com/wp-content/uploads/2022/02/Kennesaw-Touch-a-Truck-e1676645542359.jpg
GEO:34.0216518;-84.6211205
X-APPLE-STRUCTURED-LOCATION;VALUE=URI;X-ADDRESS=Adams Park 2753 Watts Drive Kennesaw;X-APPLE-RADIUS=500;X-TITLE=2753 Watts Drive:geo:-84.6211205,34.0216518
END:VEVENT
BEGIN:VEVENT
DTSTART;TZID=America/New_York:20210330T150000
DTEND;TZID=America/New_York:20210330T190000
DTSTAMP:20260423T023516
CREATED:20210217T164139Z
LAST-MODIFIED:20210217T164139Z
UID:10005648-1617116400-1617130800@atlantaparent.guidoclients.com
SUMMARY:A Sense of Adventure: Egg Hunt
DESCRIPTION:Go on the hunt for treat eggs. Free admission.
URL:https://atlantaparent.guidoclients.com/event/a-sense-of-adventure-egg-hunt/
LOCATION:Adams Park\, 2753 Watts Drive\, Kennesaw
GEO:34.0216518;-84.6211205
X-APPLE-STRUCTURED-LOCATION;VALUE=URI;X-ADDRESS=Adams Park 2753 Watts Drive Kennesaw;X-APPLE-RADIUS=500;X-TITLE=2753 Watts Drive:geo:-84.6211205,34.0216518
END:VEVENT
BEGIN:VEVENT
DTSTART;TZID=America/New_York:20191214T180000
DTEND;TZID=America/New_York:20191214T210000
DTSTAMP:20260423T023516
CREATED:20201012T040017Z
LAST-MODIFIED:20201202T133910Z
UID:10003911-1576346400-1576357200@atlantaparent.guidoclients.com
SUMMARY:Santa Parade in Downtown Kennesaw
DESCRIPTION:Enjoy a reverse parade by walking through the stationary floats and watching performances. At sundown\, watch “Elf” on a giant inflatable screen. Free admission.
URL:https://atlantaparent.guidoclients.com/event/santa-parade-in-downtown-kennesaw/
LOCATION:Adams Park\, 2753 Watts Drive\, Kennesaw
ATTACH;FMTTYPE=image/png:https://atlantaparent.guidoclients.com/wp-content/uploads/2020/10/reverse-parade.png
GEO:34.0216518;-84.6211205
X-APPLE-STRUCTURED-LOCATION;VALUE=URI;X-ADDRESS=Adams Park 2753 Watts Drive Kennesaw;X-APPLE-RADIUS=500;X-TITLE=2753 Watts Drive:geo:-84.6211205,34.0216518
END:VEVENT
END:VCALENDAR