BEGIN:VCALENDAR
VERSION:2.0
PRODID:-//OLD Atlanta Parent - ECPv6.15.11//NONSGML v1.0//EN
CALSCALE:GREGORIAN
METHOD:PUBLISH
X-ORIGINAL-URL:https://atlantaparent.guidoclients.com
X-WR-CALDESC:Events for OLD Atlanta Parent
REFRESH-INTERVAL;VALUE=DURATION:PT1H
X-Robots-Tag:noindex
X-PUBLISHED-TTL:PT1H
BEGIN:VTIMEZONE
TZID:America/New_York
BEGIN:DAYLIGHT
TZOFFSETFROM:-0500
TZOFFSETTO:-0400
TZNAME:EDT
DTSTART:20220313T070000
END:DAYLIGHT
BEGIN:STANDARD
TZOFFSETFROM:-0400
TZOFFSETTO:-0500
TZNAME:EST
DTSTART:20221106T060000
END:STANDARD
BEGIN:DAYLIGHT
TZOFFSETFROM:-0500
TZOFFSETTO:-0400
TZNAME:EDT
DTSTART:20230312T070000
END:DAYLIGHT
BEGIN:STANDARD
TZOFFSETFROM:-0400
TZOFFSETTO:-0500
TZNAME:EST
DTSTART:20231105T060000
END:STANDARD
BEGIN:DAYLIGHT
TZOFFSETFROM:-0500
TZOFFSETTO:-0400
TZNAME:EDT
DTSTART:20240310T070000
END:DAYLIGHT
BEGIN:STANDARD
TZOFFSETFROM:-0400
TZOFFSETTO:-0500
TZNAME:EST
DTSTART:20241103T060000
END:STANDARD
END:VTIMEZONE
BEGIN:VEVENT
DTSTART;TZID=America/New_York:20230822T100000
DTEND;TZID=America/New_York:20230822T120000
DTSTAMP:20260423T033822
CREATED:20230718T133706Z
LAST-MODIFIED:20230718T133706Z
UID:10007287-1692698400-1692705600@atlantaparent.guidoclients.com
SUMMARY:Nurture at Little Acorns
DESCRIPTION:Join Nurture at The Avalon for their monthly Little Acorns celebrations. Families of preschool-age children are invited to enjoy music\, crafts and meeting new friends.
URL:https://atlantaparent.guidoclients.com/event/nurture-at-little-acorns/
LOCATION:Plaza at Avalon\, 2200 Avalon Boulevard\, Alpharetta
ATTACH;FMTTYPE=image/png:https://atlantaparent.guidoclients.com/wp-content/uploads/2023/06/4.png
ORGANIZER;CN="Nurture":MAILTO:info@nurtureatlanta.org
GEO:34.0707903;-84.2771572
X-APPLE-STRUCTURED-LOCATION;VALUE=URI;X-ADDRESS=Plaza at Avalon 2200 Avalon Boulevard Alpharetta;X-APPLE-RADIUS=500;X-TITLE=2200 Avalon Boulevard:geo:-84.2771572,34.0707903
END:VEVENT
BEGIN:VEVENT
DTSTART;TZID=America/New_York:20230923T103000
DTEND;TZID=America/New_York:20230923T120000
DTSTAMP:20260423T033822
CREATED:20230718T133625Z
LAST-MODIFIED:20230718T133625Z
UID:10007288-1695465000-1695470400@atlantaparent.guidoclients.com
SUMMARY:Nurture's 1st Birthday and Li'l Shabbat in the Garden
DESCRIPTION:Families are invited for a special Shabbat morning celebrating Nurture’s 1st Birthday to experience a beautiful Shabbat filled with joy\, friends and cake.
URL:https://atlantaparent.guidoclients.com/event/nurtures-1st-birthday-and-lil-shabbat-in-the-garden/
LOCATION:The Davis Academy Lower School\, 8105 Roberts Dr.\, Atlanta\, GA\, 30350
ATTACH;FMTTYPE=image/png:https://atlantaparent.guidoclients.com/wp-content/uploads/2023/06/7.png
ORGANIZER;CN="Nurture":MAILTO:info@nurtureatlanta.org
GEO:33.977514;-84.3404712
X-APPLE-STRUCTURED-LOCATION;VALUE=URI;X-ADDRESS=The Davis Academy Lower School 8105 Roberts Dr. Atlanta GA 30350;X-APPLE-RADIUS=500;X-TITLE=8105 Roberts Dr.:geo:-84.3404712,33.977514
END:VEVENT
END:VCALENDAR